BEGIN:VCALENDAR
VERSION:2.0
PRODID:-//Mana Supply Company - ECPv6.15.17//NONSGML v1.0//EN
CALSCALE:GREGORIAN
METHOD:PUBLISH
X-ORIGINAL-URL:https://manasupply.com
X-WR-CALDESC:Events for Mana Supply Company
REFRESH-INTERVAL;VALUE=DURATION:PT1H
X-Robots-Tag:noindex
X-PUBLISHED-TTL:PT1H
BEGIN:VTIMEZONE
TZID:America/New_York
BEGIN:DAYLIGHT
TZOFFSETFROM:-0500
TZOFFSETTO:-0400
TZNAME:EDT
DTSTART:20240310T070000
END:DAYLIGHT
BEGIN:STANDARD
TZOFFSETFROM:-0400
TZOFFSETTO:-0500
TZNAME:EST
DTSTART:20241103T060000
END:STANDARD
BEGIN:DAYLIGHT
TZOFFSETFROM:-0500
TZOFFSETTO:-0400
TZNAME:EDT
DTSTART:20250309T070000
END:DAYLIGHT
BEGIN:STANDARD
TZOFFSETFROM:-0400
TZOFFSETTO:-0500
TZNAME:EST
DTSTART:20251102T060000
END:STANDARD
BEGIN:DAYLIGHT
TZOFFSETFROM:-0500
TZOFFSETTO:-0400
TZNAME:EDT
DTSTART:20260308T070000
END:DAYLIGHT
BEGIN:STANDARD
TZOFFSETFROM:-0400
TZOFFSETTO:-0500
TZNAME:EST
DTSTART:20261101T060000
END:STANDARD
END:VTIMEZONE
BEGIN:VEVENT
DTSTART;TZID=America/New_York:20250709T190000
DTEND;TZID=America/New_York:20250709T203000
DTSTAMP:20260423T234140
CREATED:20250708T142104Z
LAST-MODIFIED:20250708T142104Z
UID:248895-1752087600-1752093000@manasupply.com
SUMMARY:Virtual Canna-Kitchen Workshop
DESCRIPTION:Join us for a hands-on introduction to cannabis-infused creations in this Virtual Canna-Kitchen Workshop. Learn how to infuse oil so you can make your own topicals\, tinctures\, salves\, and other wellness products using cannabis and hemp. This webinar will walk you through the basics of infusion\, safety\, and dosage so you can confidently craft at home. Stick around for a live Q&A session to get your questions answered! \nREGISTER HERE for Mana’s “Virtual Canna-Kitchen Workshop” \nMana’s Canna-Education Webinar Series:Join us each month as we explore various aspects of cannabis and wellness. Led by our lead community wellness educator\, Tiffany Benincasa-Powell\, every session features a panel of knowledgeable staff and special guests from diverse fields within or adjacent to the cannabis industry. Don’t miss these informative and insightful discussions!
URL:https://manasupply.com/event/virtual-canna-kitchen-workshop/
LOCATION:Virtual – Zoom
CATEGORIES:Webinars
END:VEVENT
END:VCALENDAR